BEGIN:VCALENDAR
PRODID:-//github.com/rianjs/ical.net//NONSGML ical.net 4.0//EN
VERSION:2.0
BEGIN:VTIMEZONE
TZID:America/New_York
X-LIC-LOCATION:America/New_York
BEGIN:STANDARD
DTSTART:20241103T020000
RRULE:FREQ=YEARLY;BYDAY=1SU;BYMONTH=11
TZNAME:EST
TZOFFSETFROM:-0400
TZOFFSETTO:-0500
END:STANDARD
BEGIN:DAYLIGHT
DTSTART:20250309T020000
RRULE:FREQ=YEARLY;BYDAY=2SU;BYMONTH=3
TZNAME:EDT
TZOFFSETFROM:-0500
TZOFFSETTO:-0400
END:DAYLIGHT
END:VTIMEZONE
BEGIN:VEVENT
CLASS:PUBLIC
CREATED:20260419T194923Z
DESCRIPTION:Get ready for a high-energy community fitness event and to sha
 re your unique perspective on the redevelopment of Tuckaseegee Park and R
 ecreation Center! Your involvement will help shape design decisions. Drop
  in any time during the event. For more information visit: PublicInput.co
 m/TuckRec or Contact: Katie.Lloyd@MeckNC.gov\n https://www.publicinput.co
 m/JX3435
DTEND;TZID=America/New_York:20260425T150000
DTSTAMP:20260419T194923Z
DTSTART;TZID=America/New_York:20260425T120000
LOCATION:
SEQUENCE:0
SUMMARY:Community Open House: Get Fit at Tuck!
UID:69dbf790-b7eb-4846-baad-42e388eb6e11
END:VEVENT
END:VCALENDAR
