BEGIN:VCALENDAR
PRODID:-//github.com/rianjs/ical.net//NONSGML ical.net 4.0//EN
VERSION:2.0
BEGIN:VTIMEZONE
TZID:America/New_York
X-LIC-LOCATION:America/New_York
BEGIN:STANDARD
DTSTART:20241103T020000
RRULE:FREQ=YEARLY;BYDAY=1SU;BYMONTH=11
TZNAME:EST
TZOFFSETFROM:-0400
TZOFFSETTO:-0500
END:STANDARD
BEGIN:DAYLIGHT
DTSTART:20250309T020000
RRULE:FREQ=YEARLY;BYDAY=2SU;BYMONTH=3
TZNAME:EDT
TZOFFSETFROM:-0500
TZOFFSETTO:-0400
END:DAYLIGHT
END:VTIMEZONE
BEGIN:VEVENT
CLASS:PUBLIC
CREATED:20260425T034029Z
DESCRIPTION:Dial: 1-855-925-2801 (The phone line will be open a few moment
 s prior to meeting start time) Enter Code: 8365 Press: for meeting option
 s Press 1 to listen to the meeting Press 2 to record a comment ( messages
  will be transcribed and sent via email to all council members ) Press 3 
 to be placed in a muted queue to speak during the council meeting (only t
 hose placed in the queue after the start time of the meeting will be take
 n during public comment) You must state your name and address at the begi
 nning of your phone call or voicemail for it to be presented during the m
 eeting. Please do not say your phone number as this will be made public. 
 Please send requests for interpreting services to aboroughs@frederickcoun
 tymd.gov at least 3 business days prior to the meeting. AGENDA: I.Call to
  Order II. Moment of Silence and Pledge of Allegiance III. Quorum Call IV
 . Public Comments (5:30 p.m. 5:45 p.m.) - Members of the public will be g
 iven three (3) minutes to provide comments. Public comments will be accep
 ted on the Council s public portal at FrederickCountyMD.gov/CouncilMeetin
 gs or by calling toll-free 855- 925-2801 entering meeting code 8365 and l
 eaving a voicemail message or to enter into a queue for live public comme
 nt during the meeting. Written comments will be included in the Council r
 ecord and minutes. V. Initial Workshop Potential Charter Amendments by th
 e County Attorney County Attorney Bryon Black (Council Information) VI. P
 roposed Bill Amend Elderly Individuals and Uniformed Service Members Prop
 erty Tax Credit - Victoria Venable Director of Government Relations-Count
 y Executive s Office and Diane Fox Department Head of Treasury-Finance Di
 vision (Council Information) VII. Proposed Bill Amendments to Ch 1-21 (Fo
 rest Resource Ordinance) Michael Wilkins Department Head Development Revi
 ew and Planning Planning and Permitting Division (Council Information) VI
 II. Public Comments - Members of the public will be given three (3) minut
 es to provide comments. Public comments will be accepted via email on the
  Council s public portal FrederickCountyMD.gov/CouncilMeetings or by call
 ing toll-free 855- 925-2801 entering meeting code 8365 pressing 2 to leav
 e a voicemail message or pressing 3 to enter a muted queue for live publi
 c comment during the meeting. Written comments will be included in the Co
 uncil record and minutes IX. Upcoming Meetings Tuesday May 5 2026 Tuesday
  May 12 2026 X. Adjourn\n https://www.publicinput.com/T08564
DTEND;TZID=America/New_York:20260428T230000
DTSTAMP:20260425T034029Z
DTSTART;TZID=America/New_York:20260428T170000
LOCATION:
SEQUENCE:0
SUMMARY:Workshop - April 28\, 2026 @ 5:30 pm
UID:d8da2cff-1bad-4abc-b56b-bb74eafc0e1c
END:VEVENT
END:VCALENDAR
